BEGIN:VCALENDAR
VERSION:2.0
PRODID:-//Kommet.cz - ECPv6.15.20//NONSGML v1.0//EN
CALSCALE:GREGORIAN
METHOD:PUBLISH
X-WR-CALNAME:Kommet.cz
X-ORIGINAL-URL:https://kommet.cz
X-WR-CALDESC:Akce na Kommet.cz
REFRESH-INTERVAL;VALUE=DURATION:PT1H
X-Robots-Tag:noindex
X-PUBLISHED-TTL:PT1H
BEGIN:VTIMEZONE
TZID:Europe/Prague
BEGIN:DAYLIGHT
TZOFFSETFROM:+0100
TZOFFSETTO:+0200
TZNAME:CEST
DTSTART:20250330T010000
END:DAYLIGHT
BEGIN:STANDARD
TZOFFSETFROM:+0200
TZOFFSETTO:+0100
TZNAME:CET
DTSTART:20251026T010000
END:STANDARD
BEGIN:DAYLIGHT
TZOFFSETFROM:+0100
TZOFFSETTO:+0200
TZNAME:CEST
DTSTART:20260329T010000
END:DAYLIGHT
BEGIN:STANDARD
TZOFFSETFROM:+0200
TZOFFSETTO:+0100
TZNAME:CET
DTSTART:20261025T010000
END:STANDARD
BEGIN:DAYLIGHT
TZOFFSETFROM:+0100
TZOFFSETTO:+0200
TZNAME:CEST
DTSTART:20270328T010000
END:DAYLIGHT
BEGIN:STANDARD
TZOFFSETFROM:+0200
TZOFFSETTO:+0100
TZNAME:CET
DTSTART:20271031T010000
END:STANDARD
END:VTIMEZONE
BEGIN:VEVENT
DTSTART;TZID=Europe/Prague:20260426T090000
DTEND;TZID=Europe/Prague:20260426T170000
DTSTAMP:20260422T142613
CREATED:20260420T060503Z
LAST-MODIFIED:20260420T060503Z
UID:10337-1777194000-1777222800@kommet.cz
SUMMARY:Meteorářská vycházka
DESCRIPTION:Nazdar \, \ndávám na vědomost\, že výlet starých meteorářů je 26. dubna. Sraz je v 9 h na Staré osadě\, odjezd busem 201 v 9 h 15 min do Jedovnic\, výstup na zastávce Jedovnice-Pila. Navštívíme Rudické propadání\, pak půjdeme do Jedovnic\, kde snad už bude otevřená nějaká hospoda. Tam projednáme\, zda půjdeme dále do Krasové\, Kotvrdovic nebo Vilémovic. Nejspíše do Kotvrdovic\, protože je tam hospoda a letiště s barem. Nakonec někam dojdeme na autobus. Kdy pojede\, nalezneme v chytrém mobilu\, který nemám.\n Do busu 201 je možné nastoupit už u  nádraží Brno-Židenice\, odkud odjíždí v 9 h 09 min. Do Jedovnic jsou to 3 mimobrněnské zóny.\nSalve.\nMirek
URL:https://kommet.cz/event/meteorarska-vychazka/
LOCATION:Brno-Židenice\, Stará osada\, Stará osada\, Brno\, Jihomoravský\, 61500\, Czech Republic
ORGANIZER;CN="Sta%C5%99%C3%AD meteor%C3%A1%C5%99i etc.":MAILTO:mbfv@seznam.cz
END:VEVENT
BEGIN:VEVENT
DTSTART;TZID=Europe/Prague:20260505T220000
DTEND;TZID=Europe/Prague:20260506T043000
DTSTAMP:20260422T142613
CREATED:20231211T175744Z
LAST-MODIFIED:20251124T150723Z
UID:9231-1778018400-1778041800@kommet.cz
SUMMARY:η-Aquaridy (ETA)
DESCRIPTION:Předpokládané maximum aktivity 5./6.5.2026 ráno\, ale bude rušeno Měsícem.
URL:https://kommet.cz/event/%ce%b7-aquaridy-eta/
LOCATION:Evropa
END:VEVENT
BEGIN:VEVENT
DTSTART;TZID=Europe/Prague:20260710T180000
DTEND;TZID=Europe/Prague:20260712T120000
DTSTAMP:20260422T142613
CREATED:20260315T174337Z
LAST-MODIFIED:20260315T174411Z
UID:10276-1783706400-1783857600@kommet.cz
SUMMARY:Setkání SMPH ve Ždánicích
DESCRIPTION:Pozvánka a přihláška: Ždánice_2026
URL:https://kommet.cz/event/setkani-smph-ve-zdanicich/
LOCATION:Ždánice\, Lovecká 678\, Ždánice\, 69636
END:VEVENT
BEGIN:VEVENT
DTSTART;TZID=Europe/Prague:20260730T220000
DTEND;TZID=Europe/Prague:20260731T033000
DTSTAMP:20260422T142613
CREATED:20231211T181855Z
LAST-MODIFIED:20251124T150954Z
UID:9233-1785448800-1785468600@kommet.cz
SUMMARY:α-Capricornidy (CAP)
DESCRIPTION:
URL:https://kommet.cz/event/%ce%b1-capricornidy-cap/
LOCATION:Evropa
CATEGORIES:Maximum aktivity meteorického roje
END:VEVENT
BEGIN:VEVENT
DTSTART;TZID=Europe/Prague:20260730T220000
DTEND;TZID=Europe/Prague:20260731T033000
DTSTAMP:20260422T142613
CREATED:20231211T182559Z
LAST-MODIFIED:20251124T150851Z
UID:9235-1785448800-1785468600@kommet.cz
SUMMARY:Jižní δ-Aquaridy (SDA)
DESCRIPTION:
URL:https://kommet.cz/event/jizni-%ce%b4-aquaridy-sda/
LOCATION:Evropa
END:VEVENT
BEGIN:VEVENT
DTSTART;TZID=Europe/Prague:20260812T220000
DTEND;TZID=Europe/Prague:20260813T040000
DTSTAMP:20260422T142613
CREATED:20231211T193403Z
LAST-MODIFIED:20251124T151526Z
UID:9237-1786572000-1786593600@kommet.cz
SUMMARY:Perseidy (PER)
DESCRIPTION:Ideální pozorovací podmínky\, Měsíc je v novu a navíc dojde i k úplnému zatmění Slunce
URL:https://kommet.cz/event/perseidy-per/
LOCATION:Evropa
END:VEVENT
END:VCALENDAR